BEGIN:VCALENDAR
VERSION:2.0
PRODID:-//Los Alamitos Chamber of Commerce - ECPv6.15.18//NONSGML v1.0//EN
CALSCALE:GREGORIAN
METHOD:PUBLISH
X-WR-CALNAME:Los Alamitos Chamber of Commerce
X-ORIGINAL-URL:https://losalchamber.org
X-WR-CALDESC:Events for Los Alamitos Chamber of Commerce
REFRESH-INTERVAL;VALUE=DURATION:PT1H
X-Robots-Tag:noindex
X-PUBLISHED-TTL:PT1H
BEGIN:VTIMEZONE
TZID:America/Los_Angeles
BEGIN:DAYLIGHT
TZOFFSETFROM:-0800
TZOFFSETTO:-0700
TZNAME:PDT
DTSTART:20250309T100000
END:DAYLIGHT
BEGIN:STANDARD
TZOFFSETFROM:-0700
TZOFFSETTO:-0800
TZNAME:PST
DTSTART:20251102T090000
END:STANDARD
BEGIN:DAYLIGHT
TZOFFSETFROM:-0800
TZOFFSETTO:-0700
TZNAME:PDT
DTSTART:20260308T100000
END:DAYLIGHT
BEGIN:STANDARD
TZOFFSETFROM:-0700
TZOFFSETTO:-0800
TZNAME:PST
DTSTART:20261101T090000
END:STANDARD
BEGIN:DAYLIGHT
TZOFFSETFROM:-0800
TZOFFSETTO:-0700
TZNAME:PDT
DTSTART:20270314T100000
END:DAYLIGHT
BEGIN:STANDARD
TZOFFSETFROM:-0700
TZOFFSETTO:-0800
TZNAME:PST
DTSTART:20271107T090000
END:STANDARD
BEGIN:DAYLIGHT
TZOFFSETFROM:-0800
TZOFFSETTO:-0700
TZNAME:PDT
DTSTART:20280312T100000
END:DAYLIGHT
BEGIN:STANDARD
TZOFFSETFROM:-0700
TZOFFSETTO:-0800
TZNAME:PST
DTSTART:20281105T090000
END:STANDARD
END:VTIMEZONE
BEGIN:VEVENT
DTSTART;TZID=America/Los_Angeles:20260310T080000
DTEND;TZID=America/Los_Angeles:20270125T200000
DTSTAMP:20260423T133533
CREATED:20260309T193858Z
LAST-MODIFIED:20260309T194332Z
UID:3835-1773129600-1800907200@losalchamber.org
SUMMARY:Patriotic Holidays Annual Flag Subscription
DESCRIPTION:Screenshot
URL:https://losalchamber.org/event/patriotic-holidays-annual-flag-subscription/
ATTACH;FMTTYPE=image/jpeg:https://losalchamber.org/wp-content/uploads/2026/03/Flag-Graphics-for-Social-Media-1.jpeg
END:VEVENT
BEGIN:VEVENT
DTSTART;TZID=America/Los_Angeles:20260425T090000
DTEND;TZID=America/Los_Angeles:20260425T120000
DTSTAMP:20260423T133533
CREATED:20260319T161819Z
LAST-MODIFIED:20260319T161819Z
UID:3936-1777107600-1777118400@losalchamber.org
SUMMARY:Paws for the Planet
DESCRIPTION:
URL:https://losalchamber.org/event/paws-for-the-planet/
LOCATION:Laurel Park\, 10862 Bloomfield\, Los Alamitos\, CA\, 90720\, United States
CATEGORIES:Chamber Member Event,City Event,Community Event
ATTACH;FMTTYPE=image/jpeg:https://losalchamber.org/wp-content/uploads/2026/03/Paws-for-the-Planet.jpg
END:VEVENT
BEGIN:VEVENT
DTSTART;TZID=America/Los_Angeles:20260425T090000
DTEND;TZID=America/Los_Angeles:20260425T150000
DTSTAMP:20260423T133533
CREATED:20260318T193624Z
LAST-MODIFIED:20260423T162207Z
UID:3913-1777107600-1777129200@losalchamber.org
SUMMARY:38th Annual Classic Car Show Seal Beach
DESCRIPTION:
URL:https://losalchamber.org/event/seal-beach-car-show/
CATEGORIES:Community Event,Seal Beach Chamber Events
ATTACH;FMTTYPE=image/jpeg:https://losalchamber.org/wp-content/uploads/2026/03/SB-Car-show-poster-2026a.jpg
ORGANIZER;CN="Seal Beach Chamber of Commerce":MAILTO:admin@sealbeachchamber.org
END:VEVENT
BEGIN:VEVENT
DTSTART;TZID=America/Los_Angeles:20260426T110000
DTEND;TZID=America/Los_Angeles:20260426T170000
DTSTAMP:20260423T133533
CREATED:20260408T174829Z
LAST-MODIFIED:20260408T174829Z
UID:4084-1777201200-1777222800@losalchamber.org
SUMMARY:St. Isidore Historical Plaza presents Feria De Abril
DESCRIPTION:
URL:https://losalchamber.org/event/st-isidore-historical-plaza-presents-feria-de-abril/
LOCATION:St. Isadore Historical Plaza\, 10961 Reagan St\, 90720\, CA\, 90720\, United States
CATEGORIES:Chamber Member Event,Community Event,Non Profit event
ATTACH;FMTTYPE=image/jpeg:https://losalchamber.org/wp-content/uploads/2026/04/2026-Feria-Flyer_Social.jpg
END:VEVENT
BEGIN:VEVENT
DTSTART;TZID=America/Los_Angeles:20260504T140000
DTEND;TZID=America/Los_Angeles:20260504T150000
DTSTAMP:20260423T133533
CREATED:20260423T161811Z
LAST-MODIFIED:20260423T161811Z
UID:4113-1777903200-1777906800@losalchamber.org
SUMMARY:Ribbon Cutting- Oncura Health (formerly LA Cancer Network)
DESCRIPTION:
URL:https://losalchamber.org/event/ribbon-cutting-oncura-health-formerly-la-cancer-network/
CATEGORIES:Chamber Event,Chamber Member Event,Ribbon Cutting
ATTACH;FMTTYPE=image/png:https://losalchamber.org/wp-content/uploads/2026/04/Ribbon-cutting-Oncura-Health.png
ORGANIZER;CN="Los Alamitos Area Chamber of Commerce":MAILTO:info@losalchamber.org
END:VEVENT
BEGIN:VEVENT
DTSTART;TZID=America/Los_Angeles:20260515T110000
DTEND;TZID=America/Los_Angeles:20260515T183000
DTSTAMP:20260423T133533
CREATED:20260319T162221Z
LAST-MODIFIED:20260319T162221Z
UID:3941-1778842800-1778869800@losalchamber.org
SUMMARY:Honoring Our Fallen Memorial Golf Tournament
DESCRIPTION:
URL:https://losalchamber.org/event/honoring-our-fallen-memorial-golf-tournament-2/
CATEGORIES:Chamber Member Event,Non Profit event
ATTACH;FMTTYPE=image/jpeg:https://losalchamber.org/wp-content/uploads/2026/03/HOF-Memorial-Golf-Flyer-2026-scaled-1.jpg
END:VEVENT
BEGIN:VEVENT
DTSTART;TZID=America/Los_Angeles:20260517T100000
DTEND;TZID=America/Los_Angeles:20260517T160000
DTSTAMP:20260423T133533
CREATED:20260318T195547Z
LAST-MODIFIED:20260318T195547Z
UID:3927-1779012000-1779033600@losalchamber.org
SUMMARY:Rossmoor Women's Club Garden Tour
DESCRIPTION:
URL:https://losalchamber.org/event/rossmoor-womens-club-garden-tour/
CATEGORIES:Chamber Member Event,Community Event,Rossmoor Events
ATTACH;FMTTYPE=image/png:https://losalchamber.org/wp-content/uploads/2026/03/Garden-Tour-Flyer-2026-scaled.png
END:VEVENT
BEGIN:VEVENT
DTSTART;TZID=America/Los_Angeles:20260523T180000
DTEND;TZID=America/Los_Angeles:20260523T190000
DTSTAMP:20260423T133533
CREATED:20260302T182549Z
LAST-MODIFIED:20260302T182602Z
UID:3795-1779559200-1779562800@losalchamber.org
SUMMARY:Seal Beach City Rotary Memorial Weekend Celebration
DESCRIPTION:
URL:https://losalchamber.org/event/seal-beach-city-rotary-memorial-weekend-celebration/
LOCATION:Eisenhower Park\, Ocean & Main St.\, Seal Beach\, CA\, 90740\, United States
CATEGORIES:Community Event,Non Profit event,Seal Beach
ATTACH;FMTTYPE=image/jpeg:https://losalchamber.org/wp-content/uploads/2026/03/Photo-May-24-2025-19-23-53-400x300-1.jpg
ORGANIZER;CN="Seal Beach City Rotary":MAILTO:sealbeachcityrotary@gmail.com
END:VEVENT
BEGIN:VEVENT
DTSTART;TZID=America/Los_Angeles:20260528T113000
DTEND;TZID=America/Los_Angeles:20260528T133000
DTSTAMP:20260423T133533
CREATED:20260318T191322Z
LAST-MODIFIED:20260413T195315Z
UID:3895-1779967800-1779975000@losalchamber.org
SUMMARY:Non Profit Panel Luncheon at Epson
DESCRIPTION:
URL:https://losalchamber.org/event/non-profit-panel-luncheon/
LOCATION:Epson America\, 3131 Katella Ave\, Los Alamitos\, CA\, 90720\, United States
CATEGORIES:Chamber Event,Non Profit event,Seal Beach Chamber Events
ATTACH;FMTTYPE=image/png:https://losalchamber.org/wp-content/uploads/2026/03/Updated-Non-Profit-Poster.png
ORGANIZER;CN="Los Alamitos Area Chamber of Commerce":MAILTO:info@losalchamber.org
END:VEVENT
BEGIN:VEVENT
DTSTART;TZID=America/Los_Angeles:20260529T180000
DTEND;TZID=America/Los_Angeles:20260529T193000
DTSTAMP:20260423T133533
CREATED:20260423T163300Z
LAST-MODIFIED:20260423T163300Z
UID:4119-1780077600-1780083000@losalchamber.org
SUMMARY:Steak Night at American Legion Post 716
DESCRIPTION:
URL:https://losalchamber.org/event/steak-night-at-american-legion-post-716/
LOCATION:American Legion Post 716\, 3252 Florista\, Los Alamitos\, Ca\, 90720\, United States
CATEGORIES:Chamber Member Event
ATTACH;FMTTYPE=image/jpeg:https://losalchamber.org/wp-content/uploads/2026/04/Steak-Night-Flyer_All_Months_with_info_final_letter_format-scaled.jpg
END:VEVENT
BEGIN:VEVENT
DTSTART;TZID=America/Los_Angeles:20260607T140000
DTEND;TZID=America/Los_Angeles:20260607T180000
DTSTAMP:20260423T133533
CREATED:20260408T174413Z
LAST-MODIFIED:20260408T174413Z
UID:4079-1780840800-1780855200@losalchamber.org
SUMMARY:A Taste of Precious Life Santa Maria BBQ\, Wine\, and Beer Tasting
DESCRIPTION:
URL:https://losalchamber.org/event/a-taste-of-precious-life-santa-maria-bbq-wine-and-beer-tasting/
LOCATION:St. Isadore Historical Plaza\, 10961 Reagan St\, 90720\, CA\, 90720\, United States
CATEGORIES:Chamber Member Event,Community Event,Non Profit event
ATTACH;FMTTYPE=image/jpeg:https://losalchamber.org/wp-content/uploads/2026/04/BBQPoster-flyer_f-Precious-Life.jpg
ORGANIZER;CN="Precious Life Shelter":MAILTO:plsinfo@preciouslifeshelter.org
END:VEVENT
BEGIN:VEVENT
DTSTART;TZID=America/Los_Angeles:20260613T150000
DTEND;TZID=America/Los_Angeles:20260613T200000
DTSTAMP:20260423T133533
CREATED:20260323T173229Z
LAST-MODIFIED:20260323T173251Z
UID:3989-1781362800-1781380800@losalchamber.org
SUMMARY:Rossmoor Family Festival- Featuring "Stone Soul"
DESCRIPTION:
URL:https://losalchamber.org/event/rossmoor-family-festival-featuring-stone-soul/
LOCATION:Rush Park\, 3001 Blume Dr.\, Rossmoor\, CA\, 90720\, United States
CATEGORIES:Chamber Member Event,Community Event,Rossmoor Events
ATTACH;FMTTYPE=image/png:https://losalchamber.org/wp-content/uploads/2026/03/Rossmoor-Family-Festival.png
ORGANIZER;CN="Rossmoor Community Services District":MAILTO:cwhang@rossmoor-csd.org
END:VEVENT
BEGIN:VEVENT
DTSTART;TZID=America/Los_Angeles:20260618T113000
DTEND;TZID=America/Los_Angeles:20260618T130000
DTSTAMP:20260423T133533
CREATED:20260323T170258Z
LAST-MODIFIED:20260413T185341Z
UID:3977-1781782200-1781787600@losalchamber.org
SUMMARY:June 18th Chamber Luncheon at Epson
DESCRIPTION:
URL:https://losalchamber.org/event/june-chamber-luncheon-at-epson/
LOCATION:Epson America\, 3131 Katella Ave\, Los Alamitos\, CA\, 90720\, United States
CATEGORIES:Chamber Event,Community Event,Networking Event
ATTACH;FMTTYPE=image/png:https://losalchamber.org/wp-content/uploads/2026/03/June-Luncheon-Epson-June-18th-.png
ORGANIZER;CN="Los Alamitos Area Chamber of Commerce":MAILTO:info@losalchamber.org
END:VEVENT
BEGIN:VEVENT
DTSTART;TZID=America/Los_Angeles:20260917T111500
DTEND;TZID=America/Los_Angeles:20260917T131500
DTSTAMP:20260423T133533
CREATED:20260408T172630Z
LAST-MODIFIED:20260423T174802Z
UID:4060-1789643700-1789650900@losalchamber.org
SUMMARY:Annual Heroes Appreciation Luncheon
DESCRIPTION:
URL:https://losalchamber.org/event/annual-heroes-appreciation-luncheon/
LOCATION:Rush Park Auditorium\, 3021 Blume Dr.\, Rossmoor\, CA\, 90720\, United States
CATEGORIES:Chamber Event,Community Event,Joint Forces Training Base (JFTB)
ATTACH;FMTTYPE=image/png:https://losalchamber.org/wp-content/uploads/2026/04/Pride-of-our-Community-2026.png
ORGANIZER;CN="Los Alamitos Area Chamber of Commerce":MAILTO:info@losalchamber.org
END:VEVENT
END:VCALENDAR